BEGIN:VCALENDAR
VERSION:2.0
CALSCALE:GREGORIAN
BEGIN:VEVENT
SUMMARY:LUNCH RESET
DTSTART;TZID=Europe/Berlin:20260317T123000
DTEND;TZID=Europe/Berlin:20260317T130000
LOCATION:Studio
DESCRIPTION: Gönn Dir eine achtsame Auszeit!
In dieser kurzen, effektiven Einheit mobilisierst Du mit wechselnden Sequenzen Deinen Körper, löst Verspannungen und tankst neue Kraft für den restlichen Tag. Ideal für alle, die in kurzer Zeit spürbare Entspannung suchen.
COME AS YOU ARE!
STATUS:CONFIRMED
SEQUENCE:0
END:VEVENT
END:VCALENDAR