BEGIN:VCALENDAR
VERSION:2.0
CALSCALE:GREGORIAN
BEGIN:VEVENT
SUMMARY:Cours Handstand tous niveaux
DTSTART;TZID=Europe/Paris:20251128T181500
DTEND;TZID=Europe/Paris:20251128T194500
LOCATION:
DESCRIPTION: Cours Handstand (tous niveaux &quot;sauf grands débutants&quot;) de 1heure30
Pré-requis : savoir kicker au mur
Tapis sur place
Lieu : studio l&#039;annexe 77 rue de Charonne 75011 Paris
Code porte : 84B05 au rdc, studio à gauche dans la cour
Lieu
77, rue de Charonne 75011 Paris, Code porte : 84B05 au rdc, studio à gauche dans la cour
STATUS:CONFIRMED
SEQUENCE:0
END:VEVENT
END:VCALENDAR