BEGIN:VCALENDAR
VERSION:2.0
CALSCALE:GREGORIAN
BEGIN:VEVENT
SUMMARY:Outdoor/ Lavender Community Yoga
DTSTART;TZID=America/Los_Angeles:20250821T090000
DTEND;TZID=America/Los_Angeles:20250821T100000
LOCATION:Jardin du Soleil Lavender Farm- 3932 Sequim Dungeness Way
DESCRIPTION: Experience the beauty of Jardin Du Soleil Lavender farm. A fun, come-as-you-are community yoga practice, medium-paced, and often energizing. We take time to set up proper alignment within a posture and flow, linking our movements with breath awareness.

This class accommodates a wide range of experience levels, working on a balance between strength and flexibility. Relaxation is incorporated at the end of every class to leave you feeling recharged and connected to your center.

Jardin du Soleil Lavender Farm- 3932 Sequim Dungeness Way

The Suggested Donation is $20 per class (no one is turned away for lack of funds). Pre-register to be notified in case of cancellation, or just show up if it&amp;#039;s a nice day. Cash or check to BMY+, Venmo, or PayPal (through the Momo registration app).

Childcare is available with 24-hour notice by texting Julia @ 360-809-0717

Register online at
https://www.momoyoga.com/julia-buggy-yoga/
STATUS:CONFIRMED
SEQUENCE:0
END:VEVENT
END:VCALENDAR