BEGIN:VCALENDAR
VERSION:2.0
CALSCALE:GREGORIAN
BEGIN:VEVENT
SUMMARY:Yoga in het Elsbroekerpark ☀️
DTSTART;TZID=Europe/Amsterdam:20250812T193000
DTEND;TZID=Europe/Amsterdam:20250812T204500
LOCATION:Studio
DESCRIPTION: Vanwege de warmte is de yogales vanavond buiten in het Elsbroekerpark. Neem je eigen yogamat of handdoek en wat te drinken mee. 19:20 verzamelen we bij de speeltuin naast Basisschool De Toermalijn.
STATUS:CONFIRMED
SEQUENCE:0
END:VEVENT
END:VCALENDAR