BEGIN:VCALENDAR
VERSION:2.0
CALSCALE:GREGORIAN
BEGIN:VEVENT
SUMMARY:Kundalini NRGY Awakening
DTSTART;TZID=Europe/Amsterdam:20251124T190000
DTEND;TZID=Europe/Amsterdam:20251124T210000
LOCATION:Studio
DESCRIPTION: Voel jij het verlangen om dieper in contact te komen met jezelf en je levensenergie te laten ontwaken? 🌱

Tijdens deze bijzondere sessie lig je op een mat, klinkt er muziek en word je uitgenodigd om volledig open te staan voor wat er in jou mag bewegen. Alles gebeurt op jouw tempo, precies zoals jouw lichaam en ziel het nodig hebben.

🌿 Wat je kunt ervaren tijdens de sessie:
• Subtiele of spontane bewegingen van je lichaam
• Emoties zoals vreugde, verdriet of bevrijdende ontlading
• Beelden, kleuren of inzichten die vanzelf naar boven komen

🌸 Wat het je kan brengen:
• Meer verbinding met jezelf
• Innerlijke rust, zelfliefde en ontspanning
• Een gevoel dat alles weer stroomt; lichter, vrijer en krachtiger

💫 Met meer dan tien jaar ervaring in yoga en energetisch werk begeleid ik deze sessie intuïtief, met zachtheid en respect voor jouw proces. Het is een veilige ruimte om los te laten, te voelen en je eigen energie te laten spreken.

Gun jezelf dit moment van diepe verbinding, ontspanning en hernieuwde energie ✨

✨ Je bent zo welkom!

De groep is klein (maximaal 8 deelnemers), zodat er volop ruimte is voor persoonlijke aandacht.
STATUS:CONFIRMED
SEQUENCE:0
END:VEVENT
END:VCALENDAR