BEGIN:VCALENDAR
VERSION:2.0
CALSCALE:GREGORIAN
BEGIN:VEVENT
SUMMARY:PG - Zumba
DTSTART;TZID=Asia/Kuala_Lumpur:20210331T194500
DTEND;TZID=Asia/Kuala_Lumpur:20210331T204500
LOCATION:Pelangi
DESCRIPTION: =Pelangi=
Conducted by Amber in Chinese.
Please bring a pairs of CLEAN sport shoes (indoor shoes) and change in studio.

Cancel your class 3 hours before class begins to avoid penalty.
STATUS:CONFIRMED
SEQUENCE:0
END:VEVENT
END:VCALENDAR