BEGIN:VCALENDAR
VERSION:2.0
CALSCALE:GREGORIAN
BEGIN:VEVENT
SUMMARY:Yoga
DTSTART;TZID=Europe/Amsterdam:20240507T200000
DTEND;TZID=Europe/Amsterdam:20240507T211500
LOCATION:Schinkelse Baan 6, 2908 LE Capelle aan den IJssel
DESCRIPTION: Ivm vakantie zijn de lessen vanavond samengevoegd. Starttijd 20 uur!
STATUS:CONFIRMED
SEQUENCE:0
END:VEVENT
END:VCALENDAR