BEGIN:VCALENDAR
VERSION:2.0
CALSCALE:GREGORIAN
BEGIN:VEVENT
SUMMARY:Integrale Yoga - door Saskia
DTSTART;TZID=Europe/Amsterdam:20250605T193000
DTEND;TZID=Europe/Amsterdam:20250605T204500
LOCATION:Schinkelse Baan 6, 2908 LE Capelle aan den IJssel
DESCRIPTION: Integrale yoga zijn zachte, rustige en tevens krachtige yoga houdingen met veel hersteltijd tussendoor.
STATUS:CONFIRMED
SEQUENCE:0
END:VEVENT
END:VCALENDAR