BEGIN:VCALENDAR
VERSION:2.0
CALSCALE:GREGORIAN
BEGIN:VEVENT
SUMMARY:ACHTUNG: diesen Sa. andere Zeit 12.30-14.00  Uhr Anusara®Yoga  (All Level)
DTSTART;TZID=Europe/Amsterdam:20231021T123000
DTEND;TZID=Europe/Amsterdam:20231021T140000
LOCATION:ONLINE  / Zoom Live Klasse
DESCRIPTION: Diesen Samstag live aus Aachen vom Workshop. ... könnt ihr ein bisschen dabei sein.
Eine inspirierende, spirituelle Klasse mit Dharmatalk, ausgiebiger Asanapraxis und Meditation.
STATUS:CONFIRMED
SEQUENCE:0
END:VEVENT
END:VCALENDAR