BEGIN:VCALENDAR
VERSION:2.0
CALSCALE:GREGORIAN
BEGIN:VEVENT
SUMMARY:Postpartum Mom and Baby Reformer Course
DTSTART;TZID=Europe/Copenhagen:20260323T100000
DTEND;TZID=Europe/Copenhagen:20260323T105000
LOCATION:Brønshøjvej 16
DESCRIPTION: 
STATUS:CONFIRMED
SEQUENCE:0
END:VEVENT
END:VCALENDAR