BEGIN:VCALENDAR
VERSION:2.0
CALSCALE:GREGORIAN
BEGIN:VEVENT
SUMMARY:Self care doorbraak sessie 2
DTSTART;TZID=Europe/Amsterdam:20250821T100000
DTEND;TZID=Europe/Amsterdam:20250821T113000
LOCATION:Pieter Brueghelhuis, Middegaal 25
DESCRIPTION: 1,5 uur - 
Self care doorbraaktraject van in totaal 3 sessies
STATUS:CONFIRMED
SEQUENCE:0
END:VEVENT
END:VCALENDAR