BEGIN:VCALENDAR
VERSION:2.0
CALSCALE:GREGORIAN
BEGIN:VEVENT
SUMMARY:Special Candle Lit Winter Solstice Class: 18 Sun Salutations
DTSTART;TZID=Europe/London:20221219T180000
DTEND;TZID=Europe/London:20221219T191500
LOCATION:CHIPPING CAMPDEN
DESCRIPTION: This will be a special candle lit celebration of Winter Solstice in which we will do 18 slow and steady sun salutations - they become like a meditation. You can rest whenever you like. Traditionally you do 108 but I thought 18 would be enough this year! We&#039;ll end with a gentle warm down, restorative poses and breathing practice and relaxation. Drinks and nibbles will be shared at the end of class
STATUS:CONFIRMED
SEQUENCE:0
END:VEVENT
END:VCALENDAR