BEGIN:VCALENDAR
VERSION:2.0
CALSCALE:GREGORIAN
BEGIN:VEVENT
SUMMARY:FULLY booked Winter Solstice Somatic Restorative Special Christmas Class (90 mins)
DTSTART;TZID=Europe/London:20221221T180000
DTEND;TZID=Europe/London:20221221T193000
LOCATION:CHIPPING CAMPDEN
DESCRIPTION: This will be a special candle lit, somatic, restorative class with floor based poses that are held for longer, breathing and a longer relaxation. Hot food (veggie lasagne and garlic bread), mulled wine and mince pies to be shared at the end of class.
STATUS:CONFIRMED
SEQUENCE:0
END:VEVENT
END:VCALENDAR