BEGIN:VCALENDAR
VERSION:2.0
CALSCALE:GREGORIAN
BEGIN:VEVENT
SUMMARY:Hatha Yoga
DTSTART;TZID=Europe/Berlin:20260713T181500
DTEND;TZID=Europe/Berlin:20260713T193000
LOCATION:Heessener Dorfstr. 26, 59073 Hamm
DESCRIPTION: Hatha Yoga für mehr Balance und Flexibilität.
Dies ist ein Präventionskurs und wird von den gesetzlichen Gesundheitskassen erstattet. Bitte informiere dich bei deiner Krankenkasse. 
Du kannst diesen Kurs komplett buchen (Bitte denk nach der Buchung, auch die einzelnen Termine zu buchen!) Es ist aber auch möglich, Einzelstunden zu buchen. Melde dich rechtzeitig dafür an.
Solltest du mal verhindert sein, kannst du an einem anderen Tag deine Stunde nachholen, sofern Plätze verfügbar sind. Bitte storniere frühzeitig die Termine an denen du nicht teilnehmen kannst, damit auch andere Yogis noch die Möglichkeit haben teilzunehmen.
STATUS:CONFIRMED
SEQUENCE:0
END:VEVENT
END:VCALENDAR