BEGIN:VCALENDAR
VERSION:2.0
CALSCALE:GREGORIAN
BEGIN:VEVENT
SUMMARY:Feierabend Yoga - Sommer Special
DTSTART;TZID=Europe/Berlin:20260730T180000
DTEND;TZID=Europe/Berlin:20260730T191500
LOCATION:Heessener Dorfstr. 26, 59073 Hamm
DESCRIPTION: Eine wohltuende Yogastunde zum Abschalten nach dem Tag. Je nach Wetter draußen an der frischen Luft oder im Studio.
STATUS:CONFIRMED
SEQUENCE:0
END:VEVENT
END:VCALENDAR