BEGIN:VCALENDAR
VERSION:2.0
CALSCALE:GREGORIAN
BEGIN:VEVENT
SUMMARY:Yoga Therapy
DTSTART;TZID=Asia/Singapore:20251211T123000
DTEND;TZID=Asia/Singapore:20251211T133000
LOCATION:35 Selegie Road (#04-12) S188307  Parklane Shopping Mall
DESCRIPTION: 
STATUS:CONFIRMED
SEQUENCE:0
END:VEVENT
END:VCALENDAR