BEGIN:VCALENDAR
VERSION:2.0
CALSCALE:GREGORIAN
BEGIN:VEVENT
SUMMARY:Power Yoga
DTSTART;TZID=Asia/Singapore:20251202T190000
DTEND;TZID=Asia/Singapore:20251202T203000
LOCATION:
DESCRIPTION: Power Yoga combines strength, flexibility, and balance, with focus on backbends, inversions (headstand, forearm stand, and handstands), and core work. This class enhances endurance, tones muscles, and challenges your physical and mental resilience.

👉 Ideal for those seeking a challenging workout to improve strength and balance.
STATUS:CONFIRMED
SEQUENCE:0
END:VEVENT
END:VCALENDAR