BEGIN:VCALENDAR
VERSION:2.0
CALSCALE:GREGORIAN
BEGIN:VEVENT
SUMMARY:Susantha PT W Jess
DTSTART;TZID=Asia/Singapore:20250725T171500
DTEND;TZID=Asia/Singapore:20250725T181500
LOCATION:
DESCRIPTION: 
STATUS:CONFIRMED
SEQUENCE:0
END:VEVENT
END:VCALENDAR