BEGIN:VCALENDAR
VERSION:2.0
CALSCALE:GREGORIAN
BEGIN:VEVENT
SUMMARY:Kinderyoga ab 2 Jahren
DTSTART;TZID=Europe/Berlin:20250729T160000
DTEND;TZID=Europe/Berlin:20250729T164500
LOCATION:Kinderyoga Wunderland
DESCRIPTION: Ein liebevoller Yoga-Kurs für Kinder ab 2 Jahren in Begleitung eines Erwachsenen. Gemeinsam tauchen wir spielerisch in die Welt des Yoga ein – mit fröhlichen Bewegungsspielen, kindgerechten Yoga-Übungen, Atemspielen und Entspannungsmomenten. Durch fantasievolle Geschichten und Lieder fördern wir die Motorik, Achtsamkeit und Bindung zwischen Kind und Begleitperson. Dieser Kurs wird sehr frei gestaltet mit Tools, die man für Yogahaltungen benötigt. Die Stunde wird mit einem Freispiel beendet.

💛 Sanft, spielerisch &amp;amp; mit ganz viel Freude!
Perfekt für kleine Wirbelwinde, um zur Ruhe zu kommen, sich zu bewegen und die Welt des Yoga kennenzulernen.
STATUS:CONFIRMED
SEQUENCE:0
END:VEVENT
END:VCALENDAR