BEGIN:VCALENDAR
VERSION:2.0
CALSCALE:GREGORIAN
BEGIN:VEVENT
SUMMARY:Kinderyoga Spielgruppe 1-2 Jahre
DTSTART;TZID=Europe/Berlin:20250723T160000
DTEND;TZID=Europe/Berlin:20250723T164500
LOCATION:Kinderyoga Wunderland
DESCRIPTION: Kinder von 1–2 Jahren 🌼
Mit allen Sinnen die Welt entdecken – achtsam, bewegt und verspielt

In dieser besonderen Spielgruppe verbinden wir Kinderyoga, Achtsamkeit und freies Spiel – liebevoll gestaltet für kleine Entdecker*innen im Alter von 1 bis 2 Jahren.
Gemeinsam tauchen wir ein in eine Welt voller Bewegung, Verbindung und sanfter Abenteuer. Ganz ohne Leistungsdruck – aber mit ganz viel Herz. 💛

Was erwartet euch?
✨ Kleine, kindgerechte Yoga-Einheiten – mit Liedern, Tierbewegungen und ganz viel Spaß
✨ Achtsamkeitsspiele und Rituale, die Ruhe und Verbindung fördern
✨ Bewegungslandschaften &amp;amp; Mini-Parcours für Gleichgewicht, Konzentration und Koordination
✨ Freies Spiel mit inspirierenden Impulsen
✨ Zeit für Austausch &amp;amp; Ankommen – auch für die begleitenden Erwachsenen

Diese Gruppe ist ein sicherer, entspannter Ort zum Ankommen, Ausprobieren, Wohlfühlen – für Kinder und Eltern gleichermaßen. 🧸💫

Für wen ist die Gruppe gedacht?
	•	Für Kinder im Alter von 1 bis 2 Jahren
	•	Für Mamas, Papas oder Bezugspersonen, die ihr Kind achtsam begleiten möchten
	•	Für alle, die Lust auf liebevolle Impulse, achtsame Momente und spielerisches Bewegen haben

Wichtige Infos zur Teilnahme:
🧦 Bequeme Kleidung für Groß &amp;amp; Klein
🍌 Kleine Snacks &amp;amp; Wasser dürfen gerne mitgebracht werden (für die Pause)
🧘‍♀️ Schnupperstunden sind über Einzelstunden buchbar (begrenzte Plätze – bitte anmelden!)
👨‍👩‍👧‍👦 Ein Elternteil oder eine Begleitperson ist immer dabei

Ein Raum zum Wachsen – in Verbindung, mit Freude und in Bewegung.
Hier zählt nicht das „Können“, sondern das gemeinsame Erleben. 🥰
STATUS:CONFIRMED
SEQUENCE:0
END:VEVENT
END:VCALENDAR