BEGIN:VCALENDAR
VERSION:2.0
CALSCALE:GREGORIAN
BEGIN:VEVENT
SUMMARY:Aerial Kids 8-11 Jahre
DTSTART;TZID=Europe/Berlin:20260120T173000
DTEND;TZID=Europe/Berlin:20260120T183000
LOCATION:Kinderyoga Wunderland Hagenerstr. 41, 58642 Letmathe (Eingang über langer Kummer)
DESCRIPTION: 🪂 Stark im Körper, ruhig im Geist

In diesem Kurs fliegen wir ein Stück weiter: Die Kinder lernen herausforderndere Übungen im Tuch kennen, bauen Kraft, Körperspannung und Mut auf – immer mit spielerischer Freude und im eigenen Tempo.
Wir legen mehr Fokus auf klassische Yoga-Haltungen und den bewussten Atem. Am Ende jeder Stunde wartet eine wohltuende Ruhephase im eigenen Tuch.

✨ Der Kurs findet ohne Eltern statt – auf Wunsch dürfen die Eltern am Ende gern zuschauen.
✨ Getränke stehen im Kursraum bereit.

Aerial-Etikette – bitte lesen &amp; einhalten (zum Schutz der Tücher und für eure Sicherheit)
Unsere Aerial-Tücher sind hochwertig und halten bis 150 kg – sie sind also auch für Erwachsene geeignet. Damit sie lange schön und sicher bleiben, gelten bei uns klare Regeln:

Kein Make-up im Tuch.
Keine Haarspangen/Haarklammern – bitte Haare zusammenbinden.
Kein Schmuck (Ringe, Uhren, Armbänder, Ketten, Ohrringe).
Keine Reißverschlüsse, Knöpfe, Nieten oder Gürtel an der Kleidung. Bitte trage glatte, weiche Sportkleidung.
Lange Kleidung (z. B. Leggings &amp; Shirt mit Ärmeln) ist empfohlen – sie schützt deine Haut.
Bei kurzen Shirts gilt: Nutzung auf eigene Verantwortung. Beim Rutschen im Tuch kann es zu Reibestellen/„Tuchbrand“ kommen.
Keine Schuhe im Tuch. Bitte mit sauberen Füßen (optional saubere rutschfeste Socken).
Keine Creme/Öl/Sonnencreme frisch auf der Haut – das macht die Tücher rutschig und fleckig.
Essen und Getränke bleiben außerhalb der Tücher (Getränke nur mit Deckel, abseits der Tücher).
Nicht springen, nicht ruckartig ziehen, nicht wild schaukeln – bitte immer kontrolliert und achtsam bewegen.
Kleinere Kinder werden nicht allein ins Tuch gesetzt. Hier ist immer eine Elternbegleitung nötig.
Wir machen regelmäßig Sicherheits-Checks. Wenn dir etwas auffällt, sag bitte sofort Bescheid.
Wichtiger Hinweis zu möglichen Verletzungen:
Aerial kann – auch bei korrekter Ausführung – zu Druckstellen, blauen Flecken, Hautrötungen, Reibestellen („Tuchbrand“) oder Muskelkater führen. Bitte höre auf deinen Körper, arbeite in deinem Tempo und sag jederzeit Bescheid, wenn sich etwas nicht gut anfühlt.
Einverständnis:
Mit der Nutzung der Aerial-Tücher erklärst du dich mit dieser Aerial-Etikette einverstanden und verpflichtest dich, sie einzuhalten. 💛


🔸 Bitte beachte auch die ausgehängten Sicherheitshinweise im Studio.

Ein Kurs, der Selbstvertrauen, Bewegungsfreude und innere Ruhe fördert 💫
STATUS:CONFIRMED
SEQUENCE:0
END:VEVENT
END:VCALENDAR