BEGIN:VCALENDAR
VERSION:2.0
CALSCALE:GREGORIAN
BEGIN:VEVENT
SUMMARY:🎅 Achtsame Bewegungsstunde 2-4 Jahre Thema Nikolaus
DTSTART;TZID=Europe/Berlin:20251208T150000
DTEND;TZID=Europe/Berlin:20251208T160000
LOCATION:Kinderyoga Wunderland Hagenerstr. 41, 58642 Letmathe (Eingang über langer Kummer)
DESCRIPTION: Am Montag wird’s im Wunderland wieder ein bisschen weihnachtlich und vielleicht tauchen sogar Dinge auf, die normalerweise nur am Nordpol wohnen. 😉

Ob Rentiere, ein Schlitten oder kleine Nikolaus-Spuren…
wir verraten nichts.
Die Kinder dürfen selbst entdecken, was sich in unserem weihnachtlichen Parcours versteckt.

Sie laufen, balancieren, rollen und klettern –
ganz frei, ohne Druck und immer sicher begleitet.
Dazu eine gemütliche, warme Atmosphäre, die Kinder sofort abholt. 💛

Wir freuen uns auf neugierige kleine Entdecker und eine fröhliche Stunde voller Vorfreude.

Die Begleitpersonen sind aktiv an der Seite ihrer Kinder und genießen die gemeinsame Zeit in einer entspannten, warmen Atmosphäre. 🤗

Bitte bequeme Kleidung mitbringen. Barfuß oder gute rutschfeste Socken.
Getränke sind vor Ort erhältlich. 🌈
STATUS:CONFIRMED
SEQUENCE:0
END:VEVENT
END:VCALENDAR