BEGIN:VCALENDAR
VERSION:2.0
CALSCALE:GREGORIAN
BEGIN:VEVENT
SUMMARY:Teenieyoga ab 11 Jahren
DTSTART;TZID=Europe/Berlin:20251124T173000
DTEND;TZID=Europe/Berlin:20251124T183000
LOCATION:Kinderyoga Wunderland Hagener Str 41, 58642 Iserlohn- Letmathe (Eingang über Langer Kummer)
DESCRIPTION: Teenie Yoga ab 11 Jahren ✨🧘‍♀️

In diesem Kurs können Teenies ab 11 Jahren Yoga ganz auf ihre Art erleben. Wir greifen Themen auf, die in diesem Alter wichtig sind – von Selbstbewusstsein über Freundschaft bis hin zu Entspannung im oft vollen Alltag.

Gemeinsam üben wir klassische Yogahaltungen, fließen auch mal im Rhythmus zur Musik und probieren Atem- und Achtsamkeitsübungen aus, die dir helfen können, ruhiger und gelassener zu werden.

Alles, was du brauchst, ist bequeme Kleidung – am besten barfuß oder mit rutschfesten Socken.
STATUS:CONFIRMED
SEQUENCE:0
END:VEVENT
END:VCALENDAR