BEGIN:VCALENDAR
VERSION:2.0
CALSCALE:GREGORIAN
BEGIN:VEVENT
SUMMARY:Achtsame Bewegungsstunde 5-6 Jahre Thema: Weihnachten im Wunderland
DTSTART;TZID=Europe/Berlin:20251222T163000
DTEND;TZID=Europe/Berlin:20251222T173000
LOCATION:Kinderyoga Wunderland
DESCRIPTION: Weihnachten im Wunderland 🎄

Kurz vor Weihnachten nehmen wir uns noch einmal bewusst Zeit.
Zeit, um zusammen anzukommen, sich zu bewegen und den Trubel draußen zu lassen.

In dieser Bewegungsstunde stimmen wir uns auf Weihnachten ein, die Kinder können
sich bewegen, ausprobieren, den Stress der letzten Wochen ablegen und einfach Kind sein begleitet von Mama, Papa oder einer vertrauten Person.

Gerade in dieser Zeit tut es gut, gemeinsam etwas zu haben,
was nicht laut ist, nicht stressig, sondern verbindet und gut tut auf dem Weg Richtung Weihnachten. 💛

Die Begleitpersonen sind aktiv an der Seite ihrer Kinder und genießen die gemeinsame Zeit in einer entspannten, warmen Atmosphäre. 🤗

Bitte bequeme Kleidung mitbringen. Barfuß oder gute rutschfeste Socken.
Getränke sind vor Ort erhältlich. 🌈
STATUS:CONFIRMED
SEQUENCE:0
END:VEVENT
END:VCALENDAR