BEGIN:VCALENDAR
VERSION:2.0
CALSCALE:GREGORIAN
BEGIN:VEVENT
SUMMARY:Gemeinsam wachsen – Elterncafé
DTSTART;TZID=Europe/Berlin:20260213T100000
DTEND;TZID=Europe/Berlin:20260213T110000
LOCATION:Kinderyoga Wunderland
DESCRIPTION: Jeden Freitag öffne ich einen offenen, liebevollen Raum für Eltern und Kinder.
Ein Ort zum Ankommen, Durchatmen und Austauschen – ohne Druck, ohne Bewertung.

✨ So läuft das Elterncafé ab
	•	Du buchst deinen Platz vorab.
	•	Bezahlt wird nach dem Termin, so viel, wie es dir wert ist.
	•	Jede Woche gibt es ein Thema (z. B. Alltag, Gefühle, Grenzen, Selbstfürsorge).
	•	Gleichzeitig ist alles willkommen, was dich gerade bewegt.

🧒 Für die Kinder
Während wir Eltern sprechen, dürfen die Kinder frei spielen, sich bewegen, ausprobieren und andere Kinder kennenlernen.
Es gibt Raum für Kreativität, Bewegung und freies Sein – ohne Programm, ohne Müssen.

💬 Für dich als Mama oder Papa
Du darfst zuhören oder erzählen. Still sein oder laut denken.
Du bekommst Verständnis, ehrliche Gespräche und das Gefühl: Ich bin nicht allein.

👕 Wichtig zu wissen
	•	Bequeme Kleidung für Bewegungsfreiheit ist sinnvoll.
	•	Getränke &amp; Materialien sind vor Ort.
	•	Du musst nichts vorbereiten und nichts leisten.

Dieses Elterncafé ist kein Kurs.
Es ist ein sicherer Raum. Für Verbindung. Für Austausch. Für euch. 💛

Zur Nutzung des Aerial Tuchs
Aerial-Etikette – bitte lesen &amp; einhalten (zum Schutz der Tücher und für eure Sicherheit)
Unsere Aerial-Tücher sind hochwertig und halten bis 150 kg – sie sind also auch für Erwachsene geeignet. Damit sie lange schön und sicher bleiben, gelten bei uns klare Regeln:

Kein Make-up im Tuch.
Keine Haarspangen/Haarklammern – bitte Haare zusammenbinden.
Kein Schmuck (Ringe, Uhren, Armbänder, Ketten, Ohrringe).
Keine Reißverschlüsse, Knöpfe, Nieten oder Gürtel an der Kleidung. Bitte trage glatte, weiche Sportkleidung.
Lange Kleidung (z. B. Leggings &amp; Shirt mit Ärmeln) ist empfohlen – sie schützt deine Haut.
Bei kurzen Shirts gilt: Nutzung auf eigene Verantwortung. Beim Rutschen im Tuch kann es zu Reibestellen/„Tuchbrand“ kommen.
Keine Schuhe im Tuch. Bitte mit sauberen Füßen (optional saubere rutschfeste Socken).
Keine Creme/Öl/Sonnencreme frisch auf der Haut – das macht die Tücher rutschig und fleckig.
Essen und Getränke bleiben außerhalb der Tücher (Getränke nur mit Deckel, abseits der Tücher).
Nicht springen, nicht ruckartig ziehen, nicht wild schaukeln – bitte immer kontrolliert und achtsam bewegen.
Kleinere Kinder werden nicht allein ins Tuch gesetzt. Hier ist immer eine Elternbegleitung nötig.
Wir machen regelmäßig Sicherheits-Checks. Wenn dir etwas auffällt, sag bitte sofort Bescheid.
Wichtiger Hinweis zu möglichen Verletzungen:
Aerial kann – auch bei korrekter Ausführung – zu Druckstellen, blauen Flecken, Hautrötungen, Reibestellen („Tuchbrand“) oder Muskelkater führen. Bitte höre auf deinen Körper, arbeite in deinem Tempo und sag jederzeit Bescheid, wenn sich etwas nicht gut anfühlt.
Einverständnis:
Mit der Nutzung der Aerial-Tücher erklärst du dich mit dieser Aerial-Etikette einverstanden und verpflichtest dich, sie einzuhalten. 💛
STATUS:CONFIRMED
SEQUENCE:0
END:VEVENT
END:VCALENDAR