BEGIN:VCALENDAR
VERSION:2.0
CALSCALE:GREGORIAN
BEGIN:VEVENT
SUMMARY:Movimiento veraniego
DTSTART;TZID=Europe/Madrid:20240806T190000
DTEND;TZID=Europe/Madrid:20240806T200000
LOCATION:El Prat de Llobregat
DESCRIPTION: Clase de estilo sorpresa en función de las personas inscritas. Revisamos el nivel de energía con el que aterrizamos en la clase y desde ahí creo la secuencia de movimientos que se adapte mejor al grupo.
STATUS:CONFIRMED
SEQUENCE:0
END:VEVENT
END:VCALENDAR