BEGIN:VCALENDAR
VERSION:2.0
CALSCALE:GREGORIAN
BEGIN:VEVENT
SUMMARY:Hatha Yoga / Hatha Flow
DTSTART;TZID=Europe/Madrid:20230609T190000
DTEND;TZID=Europe/Madrid:20230609T201500
LOCATION:B&amp;B Montjuïc | Carrer 11 de setembre, 1 Girona
DESCRIPTION: 
STATUS:CONFIRMED
SEQUENCE:0
END:VEVENT
END:VCALENDAR