BEGIN:VCALENDAR
VERSION:2.0
CALSCALE:GREGORIAN
BEGIN:VEVENT
SUMMARY:In person Beginners Yoga with Lizzy
DTSTART;TZID=Europe/London:20250730T182000
DTEND;TZID=Europe/London:20250730T192000
LOCATION:studio
DESCRIPTION: In studio class
STATUS:CONFIRMED
SEQUENCE:0
END:VEVENT
END:VCALENDAR