BEGIN:VCALENDAR
VERSION:2.0
CALSCALE:GREGORIAN
BEGIN:VEVENT
SUMMARY:In person vinyasa with Keren (intermediate)
DTSTART;TZID=Europe/London:20251229T180000
DTEND;TZID=Europe/London:20251229T190000
LOCATION:studio
DESCRIPTION: An energising 75 minute intermediate-level vinyasa class designed to build strength, mobility, and balance through fun, creative, and safe sequencing. Options are always offered to suit different bodies and energy levels, helping you find your edge and move in a way that feels good for both mind and body.
STATUS:CONFIRMED
SEQUENCE:0
END:VEVENT
END:VCALENDAR