BEGIN:VCALENDAR
VERSION:2.0
CALSCALE:GREGORIAN
BEGIN:VEVENT
SUMMARY:Early Risers with Asten (sub)
DTSTART;TZID=Europe/London:20250924T073000
DTEND;TZID=Europe/London:20250924T083000
LOCATION:Kula Yoga Studio
DESCRIPTION: Early morning flow
STATUS:CONFIRMED
SEQUENCE:0
END:VEVENT
END:VCALENDAR