BEGIN:VCALENDAR
VERSION:2.0
CALSCALE:GREGORIAN
BEGIN:VEVENT
SUMMARY:Livestream Early risers with Kate
DTSTART;TZID=Europe/London:20250910T073000
DTEND;TZID=Europe/London:20250910T083000
LOCATION:Kula Yoga Studio
DESCRIPTION: An early morning Vinyasa class suitable for all levels.
STATUS:CONFIRMED
SEQUENCE:0
END:VEVENT
END:VCALENDAR