BEGIN:VCALENDAR
VERSION:2.0
CALSCALE:GREGORIAN
BEGIN:VEVENT
SUMMARY:Livestream flowing yoga with Amely
DTSTART;TZID=Europe/London:20251107T093000
DTEND;TZID=Europe/London:20251107T103000
LOCATION:Kula Yoga Studio
DESCRIPTION: 
STATUS:CONFIRMED
SEQUENCE:0
END:VEVENT
END:VCALENDAR