BEGIN:VCALENDAR
VERSION:2.0
CALSCALE:GREGORIAN
BEGIN:VEVENT
SUMMARY:Slow flow Twixmas special with Kate
DTSTART;TZID=Europe/London:20251228T100000
DTEND;TZID=Europe/London:20251228T110000
LOCATION:Kula Yoga Studio
DESCRIPTION: A post Christmas slow flow
STATUS:CONFIRMED
SEQUENCE:0
END:VEVENT
END:VCALENDAR