BEGIN:VCALENDAR
VERSION:2.0
CALSCALE:GREGORIAN
BEGIN:VEVENT
SUMMARY:Pilates with Daisy
DTSTART;TZID=Europe/London:20251129T104500
DTEND;TZID=Europe/London:20251129T114500
LOCATION:Kula Yoga Studio
DESCRIPTION: An all levels mat Pilates class.
STATUS:CONFIRMED
SEQUENCE:0
END:VEVENT
END:VCALENDAR