BEGIN:VCALENDAR
VERSION:2.0
CALSCALE:GREGORIAN
BEGIN:VEVENT
SUMMARY:Restorative Christmas Special with Emily
DTSTART;TZID=Europe/London:20251219T193000
DTEND;TZID=Europe/London:20251219T204500
LOCATION:Kula Yoga Studio
DESCRIPTION: Please join for a restorative yoga special to round off the calendar year. All welcome.
STATUS:CONFIRMED
SEQUENCE:0
END:VEVENT
END:VCALENDAR