BEGIN:VCALENDAR
VERSION:2.0
CALSCALE:GREGORIAN
BEGIN:VEVENT
SUMMARY:Park Yoga
DTSTART;TZID=Europe/London:20250802T103000
DTEND;TZID=Europe/London:20250802T113000
LOCATION:Leith Links
DESCRIPTION: A relaxed Saturday morning drop in class. 
Come as you are.
Enjoy yoga in nature. 
Bring your own mat.
STATUS:CONFIRMED
SEQUENCE:0
END:VEVENT
END:VCALENDAR