BEGIN:VCALENDAR
VERSION:2.0
CALSCALE:GREGORIAN
BEGIN:VEVENT
SUMMARY:Online Hatha
DTSTART;TZID=Europe/London:20260115T193000
DTEND;TZID=Europe/London:20260115T203000
LOCATION:Online
DESCRIPTION: Live online Hatha Yoga practice.

The link will be emailed to you 30mins before the start of class. 
It will also be visible in the event (once you have booked) from 30mins before class. 

Please aim to log into the meeting 5-10mins early to get yourself comfortably set up before the class starts at 7:30. 

You will need space to spread out your yoga mat. 
I will not create online classes where prop use is essential, however if you have props and like having the option to use them feel free to have them on hand. Remember household items like pillows or a thick book can be just as good as specially designed &quot;yoga equipment&quot;
STATUS:CONFIRMED
SEQUENCE:0
END:VEVENT
END:VCALENDAR