BEGIN:VCALENDAR
VERSION:2.0
CALSCALE:GREGORIAN
BEGIN:VEVENT
SUMMARY:Kundalini Yoga &amp; Meditatie
DTSTART;TZID=Europe/Amsterdam:20240315T090000
DTEND;TZID=Europe/Amsterdam:20240315T103000
LOCATION:Studio 145, Noordvliet 145, Leeuwarden
DESCRIPTION: Dynamische en meditatieve yogales voor Levensenergie en Bewustzijn.
STATUS:CONFIRMED
SEQUENCE:0
END:VEVENT
END:VCALENDAR