BEGIN:VCALENDAR
VERSION:2.0
CALSCALE:GREGORIAN
BEGIN:VEVENT
SUMMARY:🦋☀️Kundalini Yoga in de Tuin Harlingen
DTSTART;TZID=Europe/Amsterdam:20250513T093000
DTEND;TZID=Europe/Amsterdam:20250513T110000
LOCATION:in de Tuin
DESCRIPTION: Kundalini Yoga de Yoga van het bewustzijn, dynamische oefeningen en meditatie.

Voor het versterken van je immuunsysteem, zenuwstelsel en hormoonstelsel, voor meer ontspanning en energie.

Meenemen yogamat, vest en flesje water.
STATUS:CONFIRMED
SEQUENCE:0
END:VEVENT
END:VCALENDAR