BEGIN:VCALENDAR
VERSION:2.0
CALSCALE:GREGORIAN
BEGIN:VEVENT
SUMMARY:🌕Kundalini Yoga Volle Maan &amp; Klankschalen Leeuwarden
DTSTART;TZID=Europe/Amsterdam:20251105T181500
DTEND;TZID=Europe/Amsterdam:20251105T194500
LOCATION:Studio 145, Noordvliet 145, Leeuwarden
DESCRIPTION: Kundalini Yoga de yoga van het bewustzijn.
🍁In de avond keren we naar binnen. Deze les helpt je spanning los te laten en nieuwe energie op te bouwen met zachte maar krachtige oefeningen, ademhaling, Volle Maan meditatie en ontspanning met klankschalen.

We bewegen van inspanning naar diepe ontspanning, zodat lichaam en geest tot rust komen en je de nacht ontspannen tegemoet gaat.
We sluiten af met een kopje thee.
Voel je welkom, als er nog vragen zijn, neem gerust contact op.
STATUS:CONFIRMED
SEQUENCE:0
END:VEVENT
END:VCALENDAR