BEGIN:VCALENDAR
VERSION:2.0
CALSCALE:GREGORIAN
BEGIN:VEVENT
SUMMARY:🌕Kundalini Yoga Volle Maan en Klankschalen Harlingen
DTSTART;TZID=Europe/Amsterdam:20250908T193000
DTEND;TZID=Europe/Amsterdam:20250908T210000
LOCATION:Kundalini Yoga Friesland, Achlumerdijk 2D, Harlingen
DESCRIPTION: 🌕 Kundalini Yoga Volle Maan &amp; Klankschalen✨Naar aanleiding van de volle maan én maansverduistering op zondag; Kundalini Yoga en ontspanning met Klankschalen.
Een bijzonder moment om samen te komen, te verbinden en ruimte te maken voor ontspanning en innerlijke groei.
🪷Maandag 8 sept 19.30 uur
🪷 Kundalini Yoga Friesland, Achlumerdijk 2d, Bruisplek Harlingen (Route 5)
STATUS:CONFIRMED
SEQUENCE:0
END:VEVENT
END:VCALENDAR