BEGIN:VCALENDAR
VERSION:2.0
CALSCALE:GREGORIAN
BEGIN:VEVENT
SUMMARY:Kundalini Yoga
DTSTART;TZID=Europe/Amsterdam:20200928T183000
DTEND;TZID=Europe/Amsterdam:20200928T194500
LOCATION:Sweelinckstraat 31
DESCRIPTION: Les van 5 kwartier met wat meer uitleg. In verband met COVID-19 is er een beperkt aantal plekken beschikbaar. Graag alleen komen als je je gezond voelt en niet verkouden bent.
STATUS:CONFIRMED
SEQUENCE:0
END:VEVENT
END:VCALENDAR