BEGIN:VCALENDAR
VERSION:2.0
CALSCALE:GREGORIAN
BEGIN:VEVENT
SUMMARY:Multilivello Kutir in presenza
DTSTART;TZID=Europe/Rome:20240710T131500
DTEND;TZID=Europe/Rome:20240710T143000
LOCATION:Kutir
DESCRIPTION: Lezione classica Kutir dal 2005 condotta dal fondatore Kutir Scuola Yoga Bologna, nonchè rappresentante di Akhanda Yoga Italia e presidente di QT ets.
STATUS:CONFIRMED
SEQUENCE:0
END:VEVENT
END:VCALENDAR