BEGIN:VCALENDAR
VERSION:2.0
CALSCALE:GREGORIAN
BEGIN:VEVENT
SUMMARY:Yoga per Principianti
DTSTART;TZID=Europe/Rome:20240710T183000
DTEND;TZID=Europe/Rome:20240710T194500
LOCATION:Kutir
DESCRIPTION: Yoga per principianti è una pratica pensata per tutti coloro che si approcciano per la prima volta al mondo dello yoga, ma anche per le persone che sentono il bisogno di una pratica più gentile o ritornare ad alcuni passaggi importanti delle asana. Durante la lezione porteremo l&#039;attenzione sul respiro, la connessione con la nostra parte più intima, l&#039;attivazione e lo scorrimento della nostra energia vitale, l&#039;esecuzione delle asana, il rilassamento e la meditazione finale.
E&#039; una pratica che mira a rilasciare i blocchi fisici ed emotivi, un momento di benessere che ci regaliamo durante la giornata in mezzo a tutta la frenesia della vita!
STATUS:CONFIRMED
SEQUENCE:0
END:VEVENT
END:VCALENDAR