BEGIN:VCALENDAR
VERSION:2.0
CALSCALE:GREGORIAN
BEGIN:VEVENT
SUMMARY:5 ELEMENTS CLASS TERRA with YOGRISHI VISHVKETU
DTSTART;TZID=Europe/Rome:20240610T063000
DTEND;TZID=Europe/Rome:20240610T080000
LOCATION:Kutir
DESCRIPTION: (ENG) Exceptional event led by Himalayan Yogi Master Dr.Yogrishi Vishvketu, theme: Panch Maha Bhuta, immersion yoga practice on the 5 elements, each day is dedicated to one element: MONDAY - EARTH, TUESDAY - WATER, WEDNESDAY - FIRE, THURSDAY - AIR, FRIDAY - EARTH. book in time, due to high demand and limited places.

(ITA) Evento eccezionale guidato dall&#039;Himalayan Yogi Master Dr.Yogrishi Vishvketu, tema: Panch Maha Bhuta, immersione di pratiche yoga sui 5 elementi, ad ogni giorno è dedicato un elemento: LUNEDI - TERRA, MARTEDI - ACQUA, MERCOLEDI - FUOCO, GIOVEDI - ARIA, VENERDI - ETERE. prenotarsi in tempo, vista l&#039;alta richiesta e i posti limitati.
STATUS:CONFIRMED
SEQUENCE:0
END:VEVENT
END:VCALENDAR