BEGIN:VCALENDAR
VERSION:2.0
CALSCALE:GREGORIAN
BEGIN:VEVENT
SUMMARY:Hatha Raja - sostituzione con Sonia
DTSTART;TZID=Europe/Rome:20250303T183000
DTEND;TZID=Europe/Rome:20250303T193000
LOCATION:Kutir
DESCRIPTION: L&#039;hatha raja è una pratica adatta a tuttə, dove asana e meditazione vengono unite, al fine di raggiungere uno stato di maggiore consapevolezza. Ciò avviene attraverso la ripetizione continua del brhamaree, che va a massaggiare la corteccia celebrale e ci porta ad uno stato di introspezione profondo. Le asana proposte sono semplici e ci guidano verso il rilassamento della mente e la meditazione.
STATUS:CONFIRMED
SEQUENCE:0
END:VEVENT
END:VCALENDAR