BEGIN:VCALENDAR
VERSION:2.0
CALSCALE:GREGORIAN
BEGIN:VEVENT
SUMMARY:Hatha Integrale - muladhara chakra
DTSTART;TZID=Europe/Rome:20250123T183000
DTEND;TZID=Europe/Rome:20250123T194500
LOCATION:Kutir
DESCRIPTION: 
STATUS:CONFIRMED
SEQUENCE:0
END:VEVENT
END:VCALENDAR