BEGIN:VCALENDAR
VERSION:2.0
CALSCALE:GREGORIAN
BEGIN:VEVENT
SUMMARY:Kutir Masterclass SOLD OUT
DTSTART;TZID=Europe/Rome:20250118T110000
DTEND;TZID=Europe/Rome:20250118T130000
LOCATION:Kutir
DESCRIPTION: 
STATUS:CONFIRMED
SEQUENCE:0
END:VEVENT
END:VCALENDAR