BEGIN:VCALENDAR
VERSION:2.0
CALSCALE:GREGORIAN
BEGIN:VEVENT
SUMMARY:Meditazione Taoista
DTSTART;TZID=Europe/Rome:20240929T200000
DTEND;TZID=Europe/Rome:20240929T204500
LOCATION:Kutir
DESCRIPTION: Un&#039;esistenza sottile di contatto con il proprio sé, per attingere e scoprire le proprie risorse
STATUS:CONFIRMED
SEQUENCE:0
END:VEVENT
END:VCALENDAR