BEGIN:VCALENDAR
VERSION:2.0
CALSCALE:GREGORIAN
BEGIN:VEVENT
SUMMARY:PLAYSHOP INVERTITE
DTSTART;TZID=Europe/Rome:20241130T110000
DTEND;TZID=Europe/Rome:20241130T123000
LOCATION:Kutir
DESCRIPTION: Questo workshop - playshop offre un’ opportunità formativa a tutti, chi ha iniziato da poco così come chi ha un’esperienza solida con lo yoga!
 
Sia che tu abbia iniziato a sviluppare la tua forza e flessibilità sia che tu stia lavorando per raggiungere le pose in verticale, questo workshop ti insegnerà come preparare il tuo corpo per le inversioni e su cosa focalizzarti per trovare stabilità e supporto una volta che sei a testa in giù.
 
Questo sarà un workshop giocoso, utilizzeremo i props, i partner di inversione e i muri!
STATUS:CONFIRMED
SEQUENCE:0
END:VEVENT
END:VCALENDAR